BEGIN:VCALENDAR
VERSION:2.0
PRODID:-//Junge Musiker Saar e.V. - ECPv6.15.20//NONSGML v1.0//EN
CALSCALE:GREGORIAN
METHOD:PUBLISH
X-ORIGINAL-URL:https://junge-musiker-saar.de
X-WR-CALDESC:Veranstaltungen für Junge Musiker Saar e.V.
REFRESH-INTERVAL;VALUE=DURATION:PT1H
X-Robots-Tag:noindex
X-PUBLISHED-TTL:PT1H
BEGIN:VTIMEZONE
TZID:Europe/Berlin
BEGIN:DAYLIGHT
TZOFFSETFROM:+0100
TZOFFSETTO:+0200
TZNAME:CEST
DTSTART:20250330T010000
END:DAYLIGHT
BEGIN:STANDARD
TZOFFSETFROM:+0200
TZOFFSETTO:+0100
TZNAME:CET
DTSTART:20251026T010000
END:STANDARD
BEGIN:DAYLIGHT
TZOFFSETFROM:+0100
TZOFFSETTO:+0200
TZNAME:CEST
DTSTART:20260329T010000
END:DAYLIGHT
BEGIN:STANDARD
TZOFFSETFROM:+0200
TZOFFSETTO:+0100
TZNAME:CET
DTSTART:20261025T010000
END:STANDARD
BEGIN:DAYLIGHT
TZOFFSETFROM:+0100
TZOFFSETTO:+0200
TZNAME:CEST
DTSTART:20270328T010000
END:DAYLIGHT
BEGIN:STANDARD
TZOFFSETFROM:+0200
TZOFFSETTO:+0100
TZNAME:CET
DTSTART:20271031T010000
END:STANDARD
END:VTIMEZONE
BEGIN:VEVENT
DTSTART;TZID=Europe/Berlin:20261025T163000
DTEND;TZID=Europe/Berlin:20261025T183000
DTSTAMP:20260421T220645
CREATED:20260302T073343Z
LAST-MODIFIED:20260302T073343Z
UID:1103-1792945800-1792953000@junge-musiker-saar.de
SUMMARY:Jahresmitgliederversammlung (JMS-Landesverband)
DESCRIPTION:Jahresmitgliederversammlung gemäß Jugendordnung. Tagesordnung: Eröffnung/Begrüßung; Berichte (Vorsitzender\, Kassierer\, Kassenprüfer); Aussprache; Entlastung Kassierer; Verschiedenes. Anträge bis 01.10.2026 schriftlich an JMS-Geschäftsstelle. Ort: Landesakademie für musisch-kulturelle Bildung e.V.\, Ottweiler.
URL:https://junge-musiker-saar.de/event/jahresmitgliederversammlung-jms-landesverband/
CATEGORIES:Versammlung
END:VEVENT
END:VCALENDAR