BEGIN:VCALENDAR
VERSION:2.0
PRODID:-//Junge Musiker Saar e.V. - ECPv6.15.20//NONSGML v1.0//EN
CALSCALE:GREGORIAN
METHOD:PUBLISH
X-ORIGINAL-URL:https://junge-musiker-saar.de
X-WR-CALDESC:Veranstaltungen für Junge Musiker Saar e.V.
REFRESH-INTERVAL;VALUE=DURATION:PT1H
X-Robots-Tag:noindex
X-PUBLISHED-TTL:PT1H
BEGIN:VTIMEZONE
TZID:Europe/Berlin
BEGIN:DAYLIGHT
TZOFFSETFROM:+0100
TZOFFSETTO:+0200
TZNAME:CEST
DTSTART:20250330T010000
END:DAYLIGHT
BEGIN:STANDARD
TZOFFSETFROM:+0200
TZOFFSETTO:+0100
TZNAME:CET
DTSTART:20251026T010000
END:STANDARD
BEGIN:DAYLIGHT
TZOFFSETFROM:+0100
TZOFFSETTO:+0200
TZNAME:CEST
DTSTART:20260329T010000
END:DAYLIGHT
BEGIN:STANDARD
TZOFFSETFROM:+0200
TZOFFSETTO:+0100
TZNAME:CET
DTSTART:20261025T010000
END:STANDARD
BEGIN:DAYLIGHT
TZOFFSETFROM:+0100
TZOFFSETTO:+0200
TZNAME:CEST
DTSTART:20270328T010000
END:DAYLIGHT
BEGIN:STANDARD
TZOFFSETFROM:+0200
TZOFFSETTO:+0100
TZNAME:CET
DTSTART:20271031T010000
END:STANDARD
END:VTIMEZONE
BEGIN:VEVENT
DTSTART;TZID=Europe/Berlin:20260711T090000
DTEND;TZID=Europe/Berlin:20260712T170000
DTSTAMP:20260419T163754
CREATED:20260302T075345Z
LAST-MODIFIED:20260302T075345Z
UID:1102-1783760400-1783875600@junge-musiker-saar.de
SUMMARY:Gruppenpädagogik – Probleme lösen bei Freizeiten
DESCRIPTION:Fortbildung für Jugendleiter:innen/Betreuer:innen (JULEICA-Verlängerung möglich). Themen: Gruppenphasen\, Rollenverhalten\, Gruppenarbeit\, Leitungskompetenz\, Konfliktlösungsstrategien\, Kinderschutz/Kindeswohlgefährdung. Preis 50 €. Leistungen: Referat\, Materialien\, Übernachtung mit Vollpension. Dozentin: Angelika Beyer. Anmeldeschluss: vier Wochen vorher. Zahlung 50 € auf IBAN DE26 5919 0000 0402 5620 05 (Vermerk „Pädagogik“ + Name).
URL:https://junge-musiker-saar.de/event/gruppenpaedagogik-probleme-loesen-bei-freizeiten/
CATEGORIES:Fortbildung
END:VEVENT
END:VCALENDAR